BEGIN:VCALENDAR
VERSION:2.0
PRODID:-//wp-events-plugin.com//7.2.3.1//EN
BEGIN:VEVENT
UID:44@inalarm.com
DTSTART:20240206T090000Z
DTEND:20240206T120000Z
DTSTAMP:20240819T170817Z
URL:https://inalarm.com/eventos/invidtech-2-2024-5/
SUMMARY:Presentación - InVidTech
DESCRIPTION:Inscríbete con nuestro encargado de línea: Hector Zamora 
ATTACH;FMTTYPE=image/jpeg:https://inalarm.com/wp-content/uploads/2023/11/C
 URSO-INVIDTECH-FEB.jpg
CATEGORIES:CCTV
END:VEVENT
END:VCALENDAR