BEGIN:VCALENDAR
VERSION:2.0
PRODID:-//wp-events-plugin.com//7.2.3.1//EN
BEGIN:VEVENT
UID:106@inalarm.com
DTSTART:20250610T160000Z
DTEND:20250610T170000Z
DTSTAMP:20250516T160823Z
URL:https://inalarm.com/eventos/intercomunicadores-intel_2025/
SUMMARY:Webinar comercial - Intercomunicadores Intelbras
DESCRIPTION:
ATTACH;FMTTYPE=image/jpeg:https://inalarm.com/wp-content/uploads/2025/05/W
 EBINAR-COMERCIAL-INTERCOMUNICADORES.jpg
CATEGORIES:Acceso
END:VEVENT
END:VCALENDAR