BEGIN:VCALENDAR
VERSION:2.0
PRODID:-//wp-events-plugin.com//7.2.3.1//EN
BEGIN:VEVENT
UID:40@inalarm.com
DTSTART:20240411T090000Z
DTEND:20240411T120000Z
DTSTAMP:20240320T213145Z
URL:https://inalarm.com/eventos/gt4_ls4/
SUMMARY:Curso - Barreras GT4 y LS4
DESCRIPTION:Inscríbete con nuestro encargado de línea: Alejandro Monteneg
 ro 
ATTACH;FMTTYPE=image/jpeg:https://inalarm.com/wp-content/uploads/2023/11/1
 1-DE-ABRIL.png
CATEGORIES:Parqueo
END:VEVENT
END:VCALENDAR