BEGIN:VCALENDAR
VERSION:2.0
PRODID:-//wp-events-plugin.com//7.2.3.1//EN
BEGIN:VEVENT
UID:12@inalarm.com
DTSTART:20230725T090000Z
DTEND:20230725T170000Z
DTSTAMP:20240819T165956Z
URL:https://inalarm.com/eventos/generacion_came-2023-1/
SUMMARY:Certificación próxima generación barreras CAME
DESCRIPTION:Inscríbete con nuestro encargado de línea: Alejandro Monteneg
 ro
ATTACH;FMTTYPE=image/jpeg:https://inalarm.com/wp-content/uploads/2023/10/C
 AME-22.jpg
CATEGORIES:Acceso
END:VEVENT
END:VCALENDAR