BEGIN:VCALENDAR
VERSION:2.0
PRODID:-//wp-events-plugin.com//7.2.3.1//EN
BEGIN:VEVENT
UID:128@inalarm.com
DTSTART:20251028T150000Z
DTEND:20251028T180000Z
DTSTAMP:20251015T152151Z
URL:https://inalarm.com/eventos/fundamentos-sistemas-intrusion/
SUMMARY:Certificación parte 1 - Fundamentos en sistemas de intrusión
DESCRIPTION:
ATTACH;FMTTYPE=image/jpeg:https://inalarm.com/wp-content/uploads/2025/09/C
 ERTI-INTEL-AUTO.jpg
CATEGORIES:Alarmas,Seguridad perimetral
END:VEVENT
END:VCALENDAR