BEGIN:VCALENDAR
VERSION:2.0
PRODID:-//wp-events-plugin.com//7.2.3.1//EN
BEGIN:VEVENT
UID:136@inalarm.com
DTSTART:20260204T170000Z
DTEND:20260206T010000Z
DTSTAMP:20260129T162327Z
URL:https://inalarm.com/eventos/exposeguridad-centroamercia/
SUMMARY:ExpoSeguridad Guatemala
DESCRIPTION:\n\n\n\n\n\n\n\n\n¡ExpoSeguridad Centro America!\n\n\n\n\nEste
  4 y 5 de febrero estaremos presentes en el evento más importante de la i
 ndustria de la seguridad en Centroamérica\n\n\n\n\nDescubre junto a Inala
 rm soluciones avanzadas de la mano de líderes de la industria\, actualíz
 ate con las últimas tendencias y capacítate con los expertos que nos aco
 mpañaran en nuestro stand.\n\n\n\n\n\n 	Centro de Convenciones del Hotel 
 Barceló\, Ciudad de Guatemala\n 	11:00 a.m. – 7:00 p.m\n 	Entrada GRATI
 S con registro previo\n\n\n\n\n¡Reserva tu lugar hoy mismo completamente 
 GRATIS!\nLlena este formulario: https://ferias.registium.online/registro/f
 eria/7\n\n\n\n\n\n\n
ATTACH;FMTTYPE=image/jpeg:https://inalarm.com/wp-content/uploads/2026/01/E
 SPO.jpg
CATEGORIES:Acceso,Alarmas,CCTV,Incendio,Parqueo,Seguridad
 perimetral,Tiempo y Asistencia
END:VEVENT
END:VCALENDAR