BEGIN:VCALENDAR
VERSION:2.0
PRODID:-//wp-events-plugin.com//7.2.3.1//EN
BEGIN:VEVENT
UID:54@inalarm.com
DTSTART:20240710T090000Z
DTEND:20240712T170000Z
DTSTAMP:20240614T161414Z
URL:https://inalarm.com/eventos/exacq-kantech/
SUMMARY:Certificación Exacq / Kantech
DESCRIPTION:Inscríbete con nuestro encargado de línea: Hector Zamora 
ATTACH;FMTTYPE=image/jpeg:https://inalarm.com/wp-content/uploads/2024/06/K
 ANTECH-sin-precio.jpg
CATEGORIES:Acceso,Alarmas,CCTV
END:VEVENT
END:VCALENDAR