BEGIN:VCALENDAR
VERSION:2.0
PRODID:-//wp-events-plugin.com//7.2.3.1//EN
BEGIN:VEVENT
UID:49@inalarm.com
DTSTART:20240604T090000Z
DTEND:20240604T100000Z
DTSTAMP:20240513T210551Z
URL:https://inalarm.com/eventos/equipos_acceso-tya/
SUMMARY:Webinar - Presentación de equipos acceso y tiempo y asistencia
DESCRIPTION:Webinar - Presentación de equipos acceso y tiempo y asistencia
 \n
ATTACH;FMTTYPE=image/jpeg:https://inalarm.com/wp-content/uploads/2024/05/W
 EBINAR-EQUIPOS.jpg
CATEGORIES:Acceso,Tiempo y Asistencia
END:VEVENT
END:VCALENDAR