BEGIN:VCALENDAR
VERSION:2.0
PRODID:-//wp-events-plugin.com//7.2.3.1//EN
BEGIN:VEVENT
UID:117@inalarm.com
DTSTART:20250828T150000Z
DTEND:20250828T160000Z
DTSTAMP:20250811T213351Z
URL:https://inalarm.com/eventos/electrificador-2025_intelbras/
SUMMARY:Webinar - Electrificadores Intelbras
DESCRIPTION:
ATTACH;FMTTYPE=image/jpeg:https://inalarm.com/wp-content/uploads/2025/07/W
 EBINAR-ELECTRIFICADORES-S.jpg
CATEGORIES:Seguridad perimetral
END:VEVENT
END:VCALENDAR