BEGIN:VCALENDAR
VERSION:2.0
PRODID:-//wp-events-plugin.com//7.2.3.1//EN
BEGIN:VEVENT
UID:124@inalarm.com
DTSTART:20250925T150000Z
DTEND:20250925T180000Z
DTSTAMP:20250903T191801Z
URL:https://inalarm.com/eventos/curso-tiempo-y-asistencia-biotime-pro/
SUMMARY:Curso técnico - Software Control de tiempo y asistencia BioTime Pr
 o
DESCRIPTION:
ATTACH;FMTTYPE=image/jpeg:https://inalarm.com/wp-content/uploads/2025/09/C
 URSO-BIO-TIME-PRO.jpg
CATEGORIES:Tiempo y Asistencia
END:VEVENT
END:VCALENDAR