BEGIN:VCALENDAR
VERSION:2.0
PRODID:-//wp-events-plugin.com//7.2.3.1//EN
BEGIN:VEVENT
UID:145@inalarm.com
DTSTART:20260526T150000Z
DTEND:20260526T180000Z
DTSTAMP:20260424T200155Z
URL:https://inalarm.com/eventos/curso-tecnico-software-cvaccess/
SUMMARY:Curso técnico - Software CVAccess
DESCRIPTION:
ATTACH;FMTTYPE=image/jpeg:https://inalarm.com/wp-content/uploads/2026/04/C
 V-ACCESS1.jpg
CATEGORIES:Acceso,Tiempo y Asistencia
END:VEVENT
END:VCALENDAR