BEGIN:VCALENDAR
VERSION:2.0
PRODID:-//wp-events-plugin.com//7.2.3.1//EN
BEGIN:VEVENT
UID:71@inalarm.com
DTSTART:20241008T150000Z
DTEND:20241008T170000Z
DTSTAMP:20241004T213915Z
URL:https://inalarm.com/eventos/curso-tecnico-intelbras-acceso-seguridadpe
 rimetral-2024/
SUMMARY:Curso técnico Intelbras - Acceso y seguridad perimetral
DESCRIPTION:Inscríbete con nuestro asesor encargado: Selvin Sandoval 
ATTACH;FMTTYPE=image/jpeg:https://inalarm.com/wp-content/uploads/2024/09/I
 NVITA-INTEL-ELECTR.jpg
CATEGORIES:Acceso,Seguridad perimetral
END:VEVENT
END:VCALENDAR