BEGIN:VCALENDAR
VERSION:2.0
PRODID:-//wp-events-plugin.com//7.2.3.1//EN
BEGIN:VEVENT
UID:70@inalarm.com
DTSTART:20241007T150000Z
DTEND:20241007T170000Z
DTSTAMP:20241004T184339Z
URL:https://inalarm.com/eventos/curso-tecnico-incendio-2024/
SUMMARY:Curso técnico Intelbras - Incendio
DESCRIPTION:Inscríbete con nuestro asesor encargado: Selvin Sandoval 
ATTACH;FMTTYPE=image/jpeg:https://inalarm.com/wp-content/uploads/2024/09/I
 NVITA-INTEL-INCENDIO.jpg
CATEGORIES:Incendio
END:VEVENT
END:VCALENDAR