BEGIN:VCALENDAR
VERSION:2.0
PRODID:-//wp-events-plugin.com//7.2.3.1//EN
BEGIN:VEVENT
UID:19@inalarm.com
DTSTART:20230428T090000Z
DTEND:20230428T170000Z
DTSTAMP:20240819T165348Z
URL:https://inalarm.com/eventos/curso-presencial-nuevas-llaves-came-2023/
SUMMARY:Curso presencial Nuevas llaves CAME
DESCRIPTION:
ATTACH;FMTTYPE=image/jpeg:https://inalarm.com/wp-content/uploads/2023/10/C
 URSO-CAME-VIERNES.jpg
CATEGORIES:Acceso,Parqueo
END:VEVENT
END:VCALENDAR