BEGIN:VCALENDAR
VERSION:2.0
PRODID:-//wp-events-plugin.com//7.2.3.1//EN
BEGIN:VEVENT
UID:69@inalarm.com
DTSTART:20241011T150000Z
DTEND:20241011T170000Z
DTSTAMP:20240923T172527Z
URL:https://inalarm.com/eventos/curso-intelbras-en-quetzaltenango/
SUMMARY:Curso técnico Intelbras en Quetzaltenango
DESCRIPTION:Te invitamos a formar parte de esta experiencia exclusiva donde
  presentaremos las últimas innovaciones en tecnología de seguridad para 
 hogares y negocios. Descubre cómo Intelbras puede brindar tranquilidad y 
 protección\, con soluciones avanzadas en control de acceso\, sistemas de 
 alarmas\, incendio y seguridad perimetral.
ATTACH;FMTTYPE=image/jpeg:https://inalarm.com/wp-content/uploads/2024/09/C
 ERT-XELA.jpg
CATEGORIES:Acceso,Alarmas,Incendio,Seguridad perimetral
END:VEVENT
END:VCALENDAR