BEGIN:VCALENDAR
VERSION:2.0
PRODID:-//wp-events-plugin.com//7.2.3.1//EN
BEGIN:VEVENT
UID:56@inalarm.com
DTSTART:20240724T090000Z
DTEND:20240724T120000Z
DTSTAMP:20240722T222312Z
URL:https://inalarm.com/eventos/curso-came/
SUMMARY:Curso Barreras CAME
DESCRIPTION:Inscríbete con nuestro encargado de línea: Alejandro Monteneg
 ro 
ATTACH;FMTTYPE=image/jpeg:https://inalarm.com/wp-content/uploads/2024/07/C
 AME-2.jpg
CATEGORIES:Parqueo
END:VEVENT
END:VCALENDAR