BEGIN:VCALENDAR
VERSION:2.0
PRODID:-//wp-events-plugin.com//7.2.3.1//EN
BEGIN:VEVENT
UID:16@inalarm.com
DTSTART:20230622T090000Z
DTEND:20230622T170000Z
DTSTAMP:20231002T192322Z
URL:https://inalarm.com/eventos/curso-basico-de-alarmas/
SUMMARY:Curso Básico de Alarmas
DESCRIPTION:Inscríbete con nuestra encargada de línea: Graciela Martínez
ATTACH;FMTTYPE=image/jpeg:https://inalarm.com/wp-content/uploads/2023/10/C
 URSO-BASICO-DE-ALARMAS-WEB.png
CATEGORIES:Alarmas
END:VEVENT
END:VCALENDAR