BEGIN:VCALENDAR
VERSION:2.0
PRODID:-//wp-events-plugin.com//7.2.3.1//EN
BEGIN:VEVENT
UID:126@inalarm.com
DTSTART;VALUE=DATE:20251009
DTEND;VALUE=DATE:20251010
DTSTAMP:20251006T190844Z
URL:https://inalarm.com/eventos/curso-barreras-vehiculares-_2025/
SUMMARY:Curso - Barreras vehiculares CAME
DESCRIPTION:
ATTACH;FMTTYPE=image/jpeg:https://inalarm.com/wp-content/uploads/2025/09/B
 ARRERAS-CAME-W.jpg
CATEGORIES:Parqueo
END:VEVENT
END:VCALENDAR