BEGIN:VCALENDAR
VERSION:2.0
PRODID:-//wp-events-plugin.com//7.2.3.1//EN
BEGIN:VEVENT
UID:135@inalarm.com
DTSTART:20260120T150000Z
DTEND:20260120T180000Z
DTSTAMP:20260106T161748Z
URL:https://inalarm.com/eventos/curso-barreras-previo-certificacion-came/
SUMMARY:Curso barreras previo certificación Came
DESCRIPTION:
ATTACH;FMTTYPE=image/jpeg:https://inalarm.com/wp-content/uploads/2026/01/C
 AME-CUR.jpg
CATEGORIES:Parqueo
END:VEVENT
END:VCALENDAR