BEGIN:VCALENDAR
VERSION:2.0
PRODID:-//wp-events-plugin.com//7.2.3.1//EN
BEGIN:VEVENT
UID:141@inalarm.com
DTSTART:20260416T150000Z
DTEND:20260416T180000Z
DTSTAMP:20260325T205110Z
URL:https://inalarm.com/eventos/curso-automatizacion-de-motores-y-brazos-p
 ara-portones/
SUMMARY:Curso - Automatización de motores y brazos para portones
DESCRIPTION:
ATTACH;FMTTYPE=image/jpeg:https://inalarm.com/wp-content/uploads/2026/03/c
 ame-abril.jpg
CATEGORIES:Parqueo
END:VEVENT
END:VCALENDAR