BEGIN:VCALENDAR
VERSION:2.0
PRODID:-//wp-events-plugin.com//7.2.3.1//EN
BEGIN:VEVENT
UID:78@inalarm.com
DTSTART:20241204T150000Z
DTEND:20241204T160000Z
DTSTAMP:20241121T193840Z
URL:https://inalarm.com/eventos/connect-alarm/
SUMMARY:Webinar - App Connect Alarm
DESCRIPTION:
ATTACH;FMTTYPE=image/jpeg:https://inalarm.com/wp-content/uploads/2024/11/W
 ebinar-Connect-Alarm.jpg
CATEGORIES:Alarmas
END:VEVENT
END:VCALENDAR