BEGIN:VCALENDAR
VERSION:2.0
PRODID:-//wp-events-plugin.com//7.2.3.1//EN
BEGIN:VEVENT
UID:51@inalarm.com
DTSTART:20240613T090000Z
DTEND:20240613T120000Z
DTSTAMP:20240819T170645Z
URL:https://inalarm.com/eventos/configuracion-kits-paneles-de-acceso-2024-
 6/
SUMMARY:Configuración kits paneles de acceso
DESCRIPTION:Configuración kits paneles de acceso\n&nbsp\;\nPuedes adquirir
  tu kit con tu asesor o escribirnos a nuestro WhatsApp para más informac
 ión.\n \n
ATTACH;FMTTYPE=image/jpeg:https://inalarm.com/wp-content/uploads/2024/05/C
 URSO-1-CONFIGURACION-PANELES-ZKTECO.jpg
CATEGORIES:Acceso
END:VEVENT
END:VCALENDAR