BEGIN:VCALENDAR
VERSION:2.0
PRODID:-//wp-events-plugin.com//7.2.3.1//EN
BEGIN:VEVENT
UID:102@inalarm.com
DTSTART:20250513T150000Z
DTEND:20250513T160000Z
DTSTAMP:20250429T171536Z
URL:https://inalarm.com/eventos/comunicador_5g-lte_2025/
SUMMARY:Webinar comercial - Comunicador celular 5G/LTE
DESCRIPTION:
ATTACH;FMTTYPE=image/jpeg:https://inalarm.com/wp-content/uploads/2025/04/C
 OMUNICADORES-ZOOM.jpg
CATEGORIES:Alarmas
END:VEVENT
END:VCALENDAR