BEGIN:VCALENDAR
VERSION:2.0
PRODID:-//wp-events-plugin.com//7.2.3.1//EN
BEGIN:VEVENT
UID:3@inalarm.com
DTSTART:20230928T090000Z
DTEND:20230928T100000Z
DTSTAMP:20230921T230145Z
URL:https://inalarm.com/eventos/chapas-ml300-ml200/
SUMMARY:Webinar - Chapas de acceso ML300 / ML200
DESCRIPTION:Nueva cerradura inteligente que integra verificación por huell
 a dactilar y teclado digital\, además permite administrarlo desde la app 
 ZSmart mediante su conexión Bluetooth. Es de muy fácil instalación sust
 ituyendo tu cerradura tradicional cerrojo estándar americano y la configu
 ración se finaliza en solo unos pocos minutos. Permite verificar el histo
 rial de registro y compartir el código de acceso temporal o dinámico a t
 ravés de la aplicación ZSmart. ¡Una buena elección para casas privadas
 \, apartamentos para jóvenes y alquileres a corto plazo\; crea vidas más
  sencillas\, inteligentes y cómodas!
ATTACH;FMTTYPE=image/jpeg:https://inalarm.com/wp-content/uploads/2023/09/W
 EBINAR-CHAPAS-ML300-e1695227634672.jpg
CATEGORIES:Acceso
END:VEVENT
END:VCALENDAR