BEGIN:VCALENDAR
VERSION:2.0
PRODID:-//wp-events-plugin.com//7.2.3.1//EN
BEGIN:VEVENT
UID:64@inalarm.com
DTSTART:20241002T143000Z
DTEND:20241003T220000Z
DTSTAMP:20240902T160144Z
URL:https://inalarm.com/eventos/certificacion-zkteco-2-2024/
SUMMARY:Certificación ZKTeco
DESCRIPTION:Inscríbete con nuestro encargado de línea: Alejandro Monteneg
 ro 
ATTACH;FMTTYPE=image/jpeg:https://inalarm.com/wp-content/uploads/2024/09/P
 OR-PAREJA.jpg
CATEGORIES:Acceso,Tiempo y Asistencia
END:VEVENT
END:VCALENDAR