BEGIN:VCALENDAR
VERSION:2.0
PRODID:-//wp-events-plugin.com//7.2.3.1//EN
BEGIN:VEVENT
UID:46@inalarm.com
DTSTART:20240425T090000Z
DTEND:20240426T170000Z
DTSTAMP:20240819T174155Z
URL:https://inalarm.com/eventos/certificacion-mircom-fx-400-2024-8/
SUMMARY:Certificación - Mircom FX-400
DESCRIPTION:Inscríbete con nuestro encargado de línea: Hector Zamora 
ATTACH;FMTTYPE=image/jpeg:https://inalarm.com/wp-content/uploads/2024/04/C
 URSO-MIRCOM-2.jpg
CATEGORIES:Incendio
END:VEVENT
END:VCALENDAR