BEGIN:VCALENDAR
VERSION:2.0
PRODID:-//wp-events-plugin.com//7.2.3.1//EN
BEGIN:VEVENT
UID:110@inalarm.com
DTSTART:20250724T150000Z
DTEND:20250724T230000Z
DTSTAMP:20250702T202811Z
URL:https://inalarm.com/eventos/certificacion-intelbras_incendio/
SUMMARY:Certificación de incendio intelbras - Sistema de alarma CIE 1125
DESCRIPTION:Inscríbete con nuestro encargado de línea: Selvin Sandoval 
ATTACH;FMTTYPE=image/jpeg:https://inalarm.com/wp-content/uploads/2025/07/C
 ERTIFICACION-SIN-PRECIO.jpg
CATEGORIES:Incendio
END:VEVENT
END:VCALENDAR