BEGIN:VCALENDAR
VERSION:2.0
PRODID:-//wp-events-plugin.com//7.2.3.1//EN
BEGIN:VEVENT
UID:125@inalarm.com
DTSTART:20250917T090000Z
DTEND:20250919T170000Z
DTSTAMP:20250903T192747Z
URL:https://inalarm.com/eventos/certificacion-exacq_kantech/
SUMMARY:Certificación - EXACQ - KANTECH
DESCRIPTION:Inscríbete con nuestro encargado de línea: Hector Zamora 
ATTACH;FMTTYPE=image/jpeg:https://inalarm.com/wp-content/uploads/2025/09/c
 erti-kantech.jpg
CATEGORIES:Acceso,Alarmas,CCTV
END:VEVENT
END:VCALENDAR