BEGIN:VCALENDAR
VERSION:2.0
PRODID:-//wp-events-plugin.com//7.2.3.1//EN
BEGIN:VEVENT
UID:32@inalarm.com
DTSTART:20231106T083000Z
DTEND:20231106T163000Z
DTSTAMP:20231025T182640Z
URL:https://inalarm.com/eventos/certificacion-de-alarmas-por-johnson-contr
 ols/
SUMMARY:Certificación de alarmas por Johnson Controls
DESCRIPTION:Inscríbete con nuestra encargada de línea: Graciela Martínez
  
ATTACH;FMTTYPE=image/jpeg:https://inalarm.com/wp-content/uploads/2023/10/G
 rupo-2.jpg
CATEGORIES:Alarmas
END:VEVENT
END:VCALENDAR