BEGIN:VCALENDAR
VERSION:2.0
PRODID:-//wp-events-plugin.com//7.2.3.1//EN
BEGIN:VEVENT
UID:137@inalarm.com
DTSTART:20260206T150000Z
DTEND:20260206T180000Z
DTSTAMP:20260129T162233Z
URL:https://inalarm.com/eventos/certificacion-barreras-came/
SUMMARY:Certificación Barreras CAME
DESCRIPTION:
ATTACH;FMTTYPE=image/jpeg:https://inalarm.com/wp-content/uploads/2026/01/C
 ERTIFICACION.jpg
CATEGORIES:Parqueo
END:VEVENT
END:VCALENDAR