BEGIN:VCALENDAR
VERSION:2.0
PRODID:-//wp-events-plugin.com//7.2.3.1//EN
BEGIN:VEVENT
UID:81@inalarm.com
DTSTART:20250128T150000Z
DTEND:20250128T180000Z
DTSTAMP:20250110T210454Z
URL:https://inalarm.com/eventos/biocvaccess-acceso-peatonal-25/
SUMMARY:Curso técnico ZKBio CVAccess / Acceso Peatonal
DESCRIPTION:
ATTACH;FMTTYPE=image/jpeg:https://inalarm.com/wp-content/uploads/2025/01/C
 URSO-ZK-28.jpg
CATEGORIES:Acceso
END:VEVENT
END:VCALENDAR