BEGIN:VCALENDAR
VERSION:2.0
PRODID:-//wp-events-plugin.com//7.2.3.1//EN
BEGIN:VEVENT
UID:37@inalarm.com
DTSTART:20231212T090000Z
DTEND:20231212T120000Z
DTSTAMP:20231122T202004Z
URL:https://inalarm.com/eventos/bioacces_ivs/
SUMMARY:Curso - ZkBio Acces IVS con F22/BL
DESCRIPTION:Inscríbete con nuestro encargado de línea: Alejandro Monteneg
 ro 
ATTACH;FMTTYPE=image/jpeg:https://inalarm.com/wp-content/uploads/2023/11/C
 URSO-IVS-F22-3.jpg
CATEGORIES:Acceso
END:VEVENT
END:VCALENDAR