BEGIN:VCALENDAR
VERSION:2.0
PRODID:-//wp-events-plugin.com//7.2.3.1//EN
BEGIN:VEVENT
UID:34@inalarm.com
DTSTART:20231116T090000Z
DTEND:20231116T120000Z
DTSTAMP:20231114T192235Z
URL:https://inalarm.com/eventos/bio_time_pro/
SUMMARY:Curso - Bio Time Pro
DESCRIPTION:¡¡Cupo Lleno!!
ATTACH;FMTTYPE=image/jpeg:https://inalarm.com/wp-content/uploads/2023/10/C
 URSO-BIO-TIME-PRO-copia.jpg
CATEGORIES:Tiempo y Asistencia
END:VEVENT
END:VCALENDAR