BEGIN:VCALENDAR
VERSION:2.0
PRODID:-//wp-events-plugin.com//7.2.3.1//EN
BEGIN:VEVENT
UID:7@inalarm.com
DTSTART:20230824T090000Z
DTEND:20230824T170000Z
DTSTAMP:20231002T212522Z
URL:https://inalarm.com/eventos/basicoalarmas_nivel2/
SUMMARY:Curso basico de alarmas Nivel 2
DESCRIPTION:Inscríbete con nuestro encargado de línea: Graciela Martínez
ATTACH;FMTTYPE=image/jpeg:https://inalarm.com/wp-content/uploads/2023/10/C
 URSO-ALARMAS-DESDE-0-Nivel-2.jpg
CATEGORIES:Alarmas
END:VEVENT
END:VCALENDAR