BEGIN:VCALENDAR
VERSION:2.0
PRODID:-//wp-events-plugin.com//7.2.3.1//EN
BEGIN:VEVENT
UID:30@inalarm.com
DTSTART:20230127T090000Z
DTEND:20230127T100000Z
DTSTAMP:20231002T205549Z
URL:https://inalarm.com/eventos/barreras/
SUMMARY:Curso presencial de Barreras
DESCRIPTION:¡Conoce más de nuestros productos!
ATTACH;FMTTYPE=image/jpeg:https://inalarm.com/wp-content/uploads/2023/10/B
 arrera-CAME.jpg
CATEGORIES:Parqueo
END:VEVENT
END:VCALENDAR