BEGIN:VCALENDAR
VERSION:2.0
PRODID:-//wp-events-plugin.com//7.2.3.1//EN
BEGIN:VEVENT
UID:24@inalarm.com
DTSTART:20230321T090000Z
DTEND:20230321T100000Z
DTSTAMP:20231002T202430Z
URL:https://inalarm.com/eventos/barrera_cmp300/
SUMMARY:Webinar Barrera CMP300
DESCRIPTION:¡Conoce más de nuestros productos!
ATTACH;FMTTYPE=image/jpeg:https://inalarm.com/wp-content/uploads/2023/10/1
 6.png
CATEGORIES:Parqueo
END:VEVENT
END:VCALENDAR