BEGIN:VCALENDAR
VERSION:2.0
PRODID:-//wp-events-plugin.com//7.2.3.1//EN
BEGIN:VEVENT
UID:108@inalarm.com
DTSTART:20250619T150000Z
DTEND:20250619T180000Z
DTSTAMP:20250526T175052Z
URL:https://inalarm.com/eventos/amt-2018_curso2025/
SUMMARY:Curso técnico - Sistema de alarma AMT 2018
DESCRIPTION:
ATTACH;FMTTYPE=image/jpeg:https://inalarm.com/wp-content/uploads/2025/05/C
 URSO-AMT-2018-1.jpg
CATEGORIES:Alarmas
END:VEVENT
END:VCALENDAR