BEGIN:VCALENDAR
VERSION:2.0
PRODID:-//wp-events-plugin.com//7.2.3.1//EN
BEGIN:VEVENT
UID:92@inalarm.com
DTSTART:20250211T150000Z
DTEND:20250211T230000Z
DTSTAMP:20250122T205220Z
URL:https://inalarm.com/eventos/alarmas_nivel1-2025/
SUMMARY:Curso de Alarma Nivel I
DESCRIPTION:Inscríbete con nuestra encargada de línea: Graciela Martínez
  
ATTACH;FMTTYPE=image/jpeg:https://inalarm.com/wp-content/uploads/2025/01/N
 IVEL-1-ALARMAS-SIN.jpg
CATEGORIES:Alarmas
END:VEVENT
END:VCALENDAR