BEGIN:VCALENDAR
VERSION:2.0
PRODID:-//wp-events-plugin.com//7.2.3.1//EN
BEGIN:VEVENT
UID:120@inalarm.com
DTSTART:20250807T150000Z
DTEND:20250807T230000Z
DTSTAMP:20250725T153208Z
URL:https://inalarm.com/eventos/alarmas-nvl1_2025a/
SUMMARY:Curso de Alarmas Nivel 1
DESCRIPTION:Inscríbete con nuestra encargada de línea: Graciela Martínez
  
ATTACH;FMTTYPE=image/jpeg:https://inalarm.com/wp-content/uploads/2025/07/C
 URSO-1.jpg
CATEGORIES:Alarmas
END:VEVENT
END:VCALENDAR