BEGIN:VCALENDAR
VERSION:2.0
PRODID:-//wp-events-plugin.com//7.2.3.1//EN
BEGIN:VEVENT
UID:122@inalarm.com
DTSTART:20250909T150000Z
DTEND:20250909T160000Z
DTSTAMP:20250820T213217Z
URL:https://inalarm.com/eventos/alarmas-intelbras_nomont-2025/
SUMMARY:Webinar - Alarmas de seguridad y contra incendios intelbras
DESCRIPTION:
ATTACH;FMTTYPE=image/jpeg:https://inalarm.com/wp-content/uploads/2025/08/W
 EBINAR-ALARMAS-ECONOMICAS.jpg
CATEGORIES:Alarmas,Incendio
END:VEVENT
END:VCALENDAR