BEGIN:VCALENDAR
VERSION:2.0
PRODID:-//wp-events-plugin.com//7.2.3.1//EN
BEGIN:VEVENT
UID:95@inalarm.com
DTSTART:20250219T150000Z
DTEND:20250219T190000Z
DTSTAMP:20250205T222031Z
URL:https://inalarm.com/eventos/alarma_2018-2025/
SUMMARY:Curso técnico Alarma AMT 2018 Intelbras
DESCRIPTION:Inscríbete con nuestro encargado de línea: Selvin Sandoval 
ATTACH;FMTTYPE=image/jpeg:https://inalarm.com/wp-content/uploads/2025/02/A
 MT-2018-sin-precio.jpg
CATEGORIES:Alarmas
END:VEVENT
END:VCALENDAR