BEGIN:VCALENDAR
VERSION:2.0
PRODID:-//wp-events-plugin.com//7.2.3.1//EN
BEGIN:VEVENT
UID:26@inalarm.com
DTSTART:20230223T090000Z
DTEND:20230223T100000Z
DTSTAMP:20231002T203635Z
URL:https://inalarm.com/eventos/accesorios_intrusion/
SUMMARY:Nuevos accesorios de Intrusión
DESCRIPTION:¡Conoce más de nuestros productos!
ATTACH;FMTTYPE=image/jpeg:https://inalarm.com/wp-content/uploads/2023/10/W
 ebinar-Productos-nuevos-Intrusion.png
CATEGORIES:Alarmas
END:VEVENT
END:VCALENDAR