BEGIN:VCALENDAR
VERSION:2.0
PRODID:-//wp-events-plugin.com//7.2.3.1//EN
BEGIN:VEVENT
UID:104@inalarm.com
DTSTART:20250522T150000Z
DTEND:20250522T180000Z
DTSTAMP:20250502T165907Z
URL:https://inalarm.com/eventos/acceso-vehicular-2025/
SUMMARY:Curso técnico - Domina el acceso vehicular con CAME
DESCRIPTION:
ATTACH;FMTTYPE=image/jpeg:https://inalarm.com/wp-content/uploads/2025/05/B
 ARRERAS-MAYO-CURSO1.jpg
CATEGORIES:Parqueo
END:VEVENT
END:VCALENDAR